BEGIN:VCALENDAR
VERSION:2.0
PRODID:-//Fotoclub Noorderlicht - ECPv6.15.17.1//NONSGML v1.0//EN
CALSCALE:GREGORIAN
METHOD:PUBLISH
X-WR-CALNAME:Fotoclub Noorderlicht
X-ORIGINAL-URL:https://www.fotoclubnoorderlicht.nl
X-WR-CALDESC:Evenementen voor Fotoclub Noorderlicht
REFRESH-INTERVAL;VALUE=DURATION:PT1H
X-Robots-Tag:noindex
X-PUBLISHED-TTL:PT1H
BEGIN:VTIMEZONE
TZID:Europe/Amsterdam
BEGIN:DAYLIGHT
TZOFFSETFROM:+0100
TZOFFSETTO:+0200
TZNAME:CEST
DTSTART:20250330T010000
END:DAYLIGHT
BEGIN:STANDARD
TZOFFSETFROM:+0200
TZOFFSETTO:+0100
TZNAME:CET
DTSTART:20251026T010000
END:STANDARD
BEGIN:DAYLIGHT
TZOFFSETFROM:+0100
TZOFFSETTO:+0200
TZNAME:CEST
DTSTART:20260329T010000
END:DAYLIGHT
BEGIN:STANDARD
TZOFFSETFROM:+0200
TZOFFSETTO:+0100
TZNAME:CET
DTSTART:20261025T010000
END:STANDARD
BEGIN:DAYLIGHT
TZOFFSETFROM:+0100
TZOFFSETTO:+0200
TZNAME:CEST
DTSTART:20270328T010000
END:DAYLIGHT
BEGIN:STANDARD
TZOFFSETFROM:+0200
TZOFFSETTO:+0100
TZNAME:CET
DTSTART:20271031T010000
END:STANDARD
END:VTIMEZONE
BEGIN:VEVENT
DTSTART;TZID=Europe/Amsterdam:20260420T200000
DTEND;TZID=Europe/Amsterdam:20260420T220000
DTSTAMP:20260420T120538
CREATED:20260417T153416Z
LAST-MODIFIED:20260417T153416Z
UID:4309-1776715200-1776722400@www.fotoclubnoorderlicht.nl
SUMMARY:Lezing Evert van den Berg
DESCRIPTION:Zaal open om 19:30u
URL:https://www.fotoclubnoorderlicht.nl/event/lezing-evert-van-den-berg/
LOCATION:De Klabbe\, Pluvierstraat 11\, Foxhol\, 9607RJ\, Nederland
END:VEVENT
END:VCALENDAR