BEGIN:VCALENDAR
VERSION:2.0
PRODID:-//Fotoclub Noorderlicht - ECPv6.15.17.1//NONSGML v1.0//EN
CALSCALE:GREGORIAN
METHOD:PUBLISH
X-WR-CALNAME:Fotoclub Noorderlicht
X-ORIGINAL-URL:https://www.fotoclubnoorderlicht.nl
X-WR-CALDESC:Evenementen voor Fotoclub Noorderlicht
REFRESH-INTERVAL;VALUE=DURATION:PT1H
X-Robots-Tag:noindex
X-PUBLISHED-TTL:PT1H
BEGIN:VTIMEZONE
TZID:Europe/Amsterdam
BEGIN:DAYLIGHT
TZOFFSETFROM:+0100
TZOFFSETTO:+0200
TZNAME:CEST
DTSTART:20260329T010000
END:DAYLIGHT
BEGIN:STANDARD
TZOFFSETFROM:+0200
TZOFFSETTO:+0100
TZNAME:CET
DTSTART:20261025T010000
END:STANDARD
BEGIN:DAYLIGHT
TZOFFSETFROM:+0100
TZOFFSETTO:+0200
TZNAME:CEST
DTSTART:20270328T010000
END:DAYLIGHT
BEGIN:STANDARD
TZOFFSETFROM:+0200
TZOFFSETTO:+0100
TZNAME:CET
DTSTART:20271031T010000
END:STANDARD
BEGIN:DAYLIGHT
TZOFFSETFROM:+0100
TZOFFSETTO:+0200
TZNAME:CEST
DTSTART:20280326T010000
END:DAYLIGHT
BEGIN:STANDARD
TZOFFSETFROM:+0200
TZOFFSETTO:+0100
TZNAME:CET
DTSTART:20281029T010000
END:STANDARD
END:VTIMEZONE
BEGIN:VEVENT
DTSTART;TZID=Europe/Amsterdam:20270510T193000
DTEND;TZID=Europe/Amsterdam:20270510T220000
DTSTAMP:20260419T152202
CREATED:20260317T114220Z
LAST-MODIFIED:20260317T114220Z
UID:4285-1809977400-1809986400@www.fotoclubnoorderlicht.nl
SUMMARY:Clubavond
DESCRIPTION:
URL:https://www.fotoclubnoorderlicht.nl/event/clubavond-80/
LOCATION:De Klabbe\, Pluvierstraat 11\, Foxhol\, 9607RJ\, Nederland
END:VEVENT
END:VCALENDAR